BEGIN:VCALENDAR
PRODID:-//eluceo/ical//2.0/EN
VERSION:2.0
CALSCALE:GREGORIAN
BEGIN:VEVENT
UID:afdade9d44f84085b16fd5de3398b699
DTSTAMP:20260423T014226Z
SUMMARY:Stammtisch Rotaract Chur-Herrschaft
DESCRIPTION:Wir treffen uns zum gemütlichen Abendstamm.\n\nAnmeldungen via
  CRSL.\nSito web: http://www.lanzino.ch/
URL:https://chur-herrschaft.rotaract.ch/it/agenda/show/120966
DTSTART;TZID=Europe/Zurich:20161104T190000
DTEND;TZID=Europe/Zurich:20161104T210000
LOCATION:Lanzino\, Gürtelstrasse 45\, 7000 Chur
CATEGORIES:Rotaract
END:VEVENT
BEGIN:VTIMEZONE
TZID:Europe/Zurich
BEGIN:STANDARD
DTSTART:20161104T190000
TZNAME:CET
TZOFFSETTO:+0100
TZOFFSETFROM:+0100
END:STANDARD
END:VTIMEZONE
END:VCALENDAR
