BEGIN:VCALENDAR
PRODID:-//eluceo/ical//2.0/EN
VERSION:2.0
CALSCALE:GREGORIAN
BEGIN:VEVENT
UID:dfbab317920d3214d5351f4fe0fa3cb9
DTSTAMP:20260422T221522Z
SUMMARY:Go Kart Event
DESCRIPTION:Relatore/i: Keine
URL:https://chur-herrschaft.rotaract.ch/it/agenda/show/120450
DTSTART;TZID=Europe/Zurich:20150324T000000
DTEND;TZID=Europe/Zurich:20150324T000000
LOCATION:Bonaduz Kart Arena
CATEGORIES:Rotaract
END:VEVENT
BEGIN:VTIMEZONE
TZID:Europe/Zurich
BEGIN:STANDARD
DTSTART:20150324T000000
TZNAME:CET
TZOFFSETTO:+0100
TZOFFSETFROM:+0100
END:STANDARD
END:VTIMEZONE
END:VCALENDAR
