BEGIN:VCALENDAR
PRODID:-//eluceo/ical//2.0/EN
VERSION:2.0
CALSCALE:GREGORIAN
BEGIN:VEVENT
UID:a877543bf8cb281ac9de6fa7e2d704ee
DTSTAMP:20260423T082358Z
SUMMARY:Mittagsstamm
DESCRIPTION:Mittagstamm im Jamies. Definitive Anmeldung im Whatsapp-Chat.
URL:https://chur-herrschaft.rotaract.ch/de/agenda/show/121289
DTSTART;TZID=Europe/Zurich:20171010T120000
DTEND;TZID=Europe/Zurich:20171010T130000
LOCATION:Jamies\, Chur
CATEGORIES:Rotaract
END:VEVENT
BEGIN:VTIMEZONE
TZID:Europe/Zurich
BEGIN:DAYLIGHT
DTSTART:20171010T120000
TZNAME:CEST
TZOFFSETTO:+0200
TZOFFSETFROM:+0200
END:DAYLIGHT
END:VTIMEZONE
END:VCALENDAR
